BEGIN:VCALENDAR
VERSION:2.0
PRODID:-//Município de Arganil - ECPv6.15.20//NONSGML v1.0//EN
CALSCALE:GREGORIAN
METHOD:PUBLISH
X-WR-CALNAME:Município de Arganil
X-ORIGINAL-URL:https://www.cm-arganil.pt
X-WR-CALDESC:Eventos para Município de Arganil
REFRESH-INTERVAL;VALUE=DURATION:PT1H
X-Robots-Tag:noindex
X-PUBLISHED-TTL:PT1H
BEGIN:VTIMEZONE
TZID:Europe/Lisbon
BEGIN:DAYLIGHT
TZOFFSETFROM:+0000
TZOFFSETTO:+0100
TZNAME:WEST
DTSTART:20250330T010000
END:DAYLIGHT
BEGIN:STANDARD
TZOFFSETFROM:+0100
TZOFFSETTO:+0000
TZNAME:WET
DTSTART:20251026T010000
END:STANDARD
BEGIN:DAYLIGHT
TZOFFSETFROM:+0000
TZOFFSETTO:+0100
TZNAME:WEST
DTSTART:20260329T010000
END:DAYLIGHT
BEGIN:STANDARD
TZOFFSETFROM:+0100
TZOFFSETTO:+0000
TZNAME:WET
DTSTART:20261025T010000
END:STANDARD
BEGIN:DAYLIGHT
TZOFFSETFROM:+0000
TZOFFSETTO:+0100
TZNAME:WEST
DTSTART:20270328T010000
END:DAYLIGHT
BEGIN:STANDARD
TZOFFSETFROM:+0100
TZOFFSETTO:+0000
TZNAME:WET
DTSTART:20271031T010000
END:STANDARD
END:VTIMEZONE
BEGIN:VEVENT
DTSTART;TZID=Europe/Lisbon:20260426T150000
DTEND;TZID=Europe/Lisbon:20260426T163000
DTSTAMP:20260422T154503
CREATED:20260317T111549Z
LAST-MODIFIED:20260317T111549Z
UID:108998-1777215600-1777221000@www.cm-arganil.pt
SUMMARY:Cinema Cerâmica Arganilense: "Super Mário Galaxy - o filme" (VP)
DESCRIPTION:
URL:https://www.cm-arganil.pt/evento/cinema-ceramica-arganilense-super-mario-galaxy-o-filme-vp/
LOCATION:Auditório da Cerâmica Arganilense
CATEGORIES:Agenda Cultural do Concelho,Agenda Cultural do Município,Cinema
ATTACH;FMTTYPE=image/jpeg:https://www.cm-arganil.pt/wp-content/uploads/2026/03/Super-Mario-Galaxy-o-filme.jpg
END:VEVENT
END:VCALENDAR