BEGIN:VCALENDAR
VERSION:2.0
PRODID:-//Município de Arganil - ECPv6.15.20//NONSGML v1.0//EN
CALSCALE:GREGORIAN
METHOD:PUBLISH
X-ORIGINAL-URL:https://www.cm-arganil.pt
X-WR-CALDESC:Eventos para Município de Arganil
REFRESH-INTERVAL;VALUE=DURATION:PT1H
X-Robots-Tag:noindex
X-PUBLISHED-TTL:PT1H
BEGIN:VTIMEZONE
TZID:Europe/Lisbon
BEGIN:DAYLIGHT
TZOFFSETFROM:+0000
TZOFFSETTO:+0100
TZNAME:WEST
DTSTART:20250330T010000
END:DAYLIGHT
BEGIN:STANDARD
TZOFFSETFROM:+0100
TZOFFSETTO:+0000
TZNAME:WET
DTSTART:20251026T010000
END:STANDARD
BEGIN:DAYLIGHT
TZOFFSETFROM:+0000
TZOFFSETTO:+0100
TZNAME:WEST
DTSTART:20260329T010000
END:DAYLIGHT
BEGIN:STANDARD
TZOFFSETFROM:+0100
TZOFFSETTO:+0000
TZNAME:WET
DTSTART:20261025T010000
END:STANDARD
BEGIN:DAYLIGHT
TZOFFSETFROM:+0000
TZOFFSETTO:+0100
TZNAME:WEST
DTSTART:20270328T010000
END:DAYLIGHT
BEGIN:STANDARD
TZOFFSETFROM:+0100
TZOFFSETTO:+0000
TZNAME:WET
DTSTART:20271031T010000
END:STANDARD
END:VTIMEZONE
BEGIN:VEVENT
DTSTART;TZID=Europe/Lisbon:20260508T213000
DTEND;TZID=Europe/Lisbon:20260508T234500
DTSTAMP:20260423T013758
CREATED:20260413T112216Z
LAST-MODIFIED:20260413T112434Z
UID:109716-1778275800-1778283900@www.cm-arganil.pt
SUMMARY:Cinema Cerâmica Arganilense - "Michael"
DESCRIPTION:Sinopse: \nO filme “Michael” é a celebração grandiosa da vida e do legado de Michael Jackson\, um dos artistas mais influentes de todos os tempos. Este filme biográfico de Michael Jackson traça a sua extraordinária jornada\, desde a descoberta do seu talento nos Jackson Five até se tornar um artista visionário e o maior do mundo. Para além da música\, “Michael” destaca a sua vida fora dos palcos e as suas atuações mais icónicas\, oferecendo uma perspectiva nunca antes vista. \nProtagonizado por Jaafar Jackson\, sobrinho do próprio Michael\, e com o apoio da família Jackson\, o elenco inclui ainda nomes como Colman Domingo\, Nia Long e Miles Teller. \nClassificação: M/13
URL:https://www.cm-arganil.pt/evento/cinema-ceramica-arganilense-michael/
LOCATION:Auditório da Cerâmica Arganilense
CATEGORIES:Agenda Cultural do Concelho,Agenda Cultural do Município,Cinema
ATTACH;FMTTYPE=image/jpeg:https://www.cm-arganil.pt/wp-content/uploads/2026/04/Michael.jpg
END:VEVENT
END:VCALENDAR